BEGIN:VCALENDAR
VERSION:2.0
PRODID:-//Pastoralraum Region Lenzburg - ECPv3.12.3//NONSGML v1.0//EN
CALSCALE:GREGORIAN
METHOD:PUBLISH
X-WR-CALNAME:Pastoralraum Region Lenzburg
X-ORIGINAL-URL:https://pastoralraum-lenzburg.ch
X-WR-CALDESC:Events for Pastoralraum Region Lenzburg
BEGIN:VEVENT
DTSTART:20260425T080000Z
DTEND:20260425T080000Z
DTSTAMP:20260420T130254Z
CREATED:20260226T110229Z
LAST-MODIFIED:20260226T110229Z
UID:19349-1777104000-1777104000@pastoralraum-lenzburg.ch
SUMMARY:Erstkommunion Seon
DESCRIPTION:Musik im Gottesdienst\n\n\n\n\nGesang:\nEowyn Wark\n\n\n\nGitarre:\nOliver Kley\n\n\n\nSchalgzeug:\nRaphael Kley\n\n\n\nOrgel:\nFlorian Zaumayr\n\n\n
URL:https://pastoralraum-lenzburg.ch/event/erstkommunion-seon/
CATEGORIES:Kirchenmusik,Wildegg
END:VEVENT
BEGIN:VEVENT
DTSTART:20260503T073000Z
DTEND:20260503T073000Z
DTSTAMP:20260420T130254Z
CREATED:20260331T154244Z
LAST-MODIFIED:20260331T154244Z
UID:19633-1777793400-1777793400@pastoralraum-lenzburg.ch
SUMMARY:Versöhnungsgottesdienst
DESCRIPTION:Musik im Gottesdienst\n\n\n\n\nBlockflöte:\nBarbara Graf\, Christine Stöckli\n\n\n\nKantor:\nOliver Kley\n\n\n\nOrgel:\nHelene Thürig\n\n\n
URL:https://pastoralraum-lenzburg.ch/event/versoehnungsgottesdienst/
CATEGORIES:Kirchenmusik,Seon
END:VEVENT
BEGIN:VEVENT
DTSTART:20260510T073000Z
DTEND:20260510T073000Z
DTSTAMP:20260420T130254Z
CREATED:20260402T133551Z
LAST-MODIFIED:20260402T133551Z
UID:19654-1778398200-1778398200@pastoralraum-lenzburg.ch
SUMMARY:Muttertag
DESCRIPTION:Musik im Gottesdienst\n\n\n\n\nVioloncello:\nRahel Furrer\n\n\n\nOrgel:\nFlorian Zaunmayr\n\n\n
URL:https://pastoralraum-lenzburg.ch/event/muttertag-9/
CATEGORIES:Kirchenmusik,Lenzburg
END:VEVENT
BEGIN:VEVENT
DTSTART:20260510T090000Z
DTEND:20260510T090000Z
DTSTAMP:20260420T130254Z
CREATED:20260402T133954Z
LAST-MODIFIED:20260402T134034Z
UID:19655-1778403600-1778403600@pastoralraum-lenzburg.ch
SUMMARY:Muttertag
DESCRIPTION:Musik im Gottesdienst\n\n\n\n\nMännerchor\nMöriken-Wildegg\n\n\n\nOrgel:\nHelene Thürig\n\n\n
URL:https://pastoralraum-lenzburg.ch/event/muttertag-10/
CATEGORIES:Kirchenmusik,Wildegg
END:VEVENT
BEGIN:VEVENT
DTSTART:20260524T073000Z
DTEND:20260524T073000Z
DTSTAMP:20260420T130254Z
CREATED:20251130T172048Z
LAST-MODIFIED:20251130T172048Z
UID:18519-1779607800-1779607800@pastoralraum-lenzburg.ch
SUMMARY:Pfingsten
DESCRIPTION:Musik im Gottesdienst\n\n\n\n\nTrompete:\nDaniel Herrero\n\n\n\nOrgel:\nJosef Gallati\n\n\n
URL:https://pastoralraum-lenzburg.ch/event/pfingsten-11/
CATEGORIES:Kirchenmusik,Seon
END:VEVENT
BEGIN:VEVENT
DTSTART:20260524T073000Z
DTEND:20260524T073000Z
DTSTAMP:20260420T130254Z
CREATED:20260331T151608Z
LAST-MODIFIED:20260331T154711Z
UID:19624-1779607800-1779607800@pastoralraum-lenzburg.ch
SUMMARY:Pfingsten
DESCRIPTION:Musik im Gottesdienst\n\n\n\n\nPfingstmusik\n von Florian Zaunmayr\n\n\n\nBariton:\nMiguel Ohara Motta\n\n\n\nChor:\nCantus de Lumine\n\n\n\nKlavier:\nYun Zaunmayr\n\n\n
URL:https://pastoralraum-lenzburg.ch/event/pfingsten-12/
CATEGORIES:Kirchenmusik,Lenzburg
END:VEVENT
BEGIN:VEVENT
DTSTART:20260524T090000Z
DTEND:20260524T090000Z
DTSTAMP:20260420T130254Z
CREATED:20260331T151612Z
LAST-MODIFIED:20260331T154829Z
UID:19625-1779613200-1779613200@pastoralraum-lenzburg.ch
SUMMARY:Pfingsten
DESCRIPTION:Musik im Gottesdienst\n\n\n\n\nPfingstmusik\nvon Florian Zaunmayr\n\n\n\nBariton:\nMiguel Ohara Motta\n\n\n\nChor:\nCantus de Lumine\n\n\n\nKlavier:\nYun Zaunmayr\n\n\n
URL:https://pastoralraum-lenzburg.ch/event/pfingsten-12-copy/
CATEGORIES:Kirchenmusik,Wildegg
END:VEVENT
BEGIN:VEVENT
DTSTART:20260531T073000Z
DTEND:20260531T073000Z
DTSTAMP:20260420T130254Z
CREATED:20260331T151856Z
LAST-MODIFIED:20260331T151856Z
UID:19626-1780212600-1780212600@pastoralraum-lenzburg.ch
SUMMARY:Gottesdienst
DESCRIPTION:Musik im Gottesdienst\n\n\n\n\nFrauenchor\nSeon\n\n\n\nLeitung:\nVera Gros\n\n\n\nOrgel:\nKurt Seiler\n\n\n
URL:https://pastoralraum-lenzburg.ch/event/gottesdienst-30/
CATEGORIES:Kirchenmusik,Seon
END:VEVENT
BEGIN:VEVENT
DTSTART:20260607T083000Z
DTEND:20260607T083000Z
DTSTAMP:20260420T130254Z
CREATED:20260403T163244Z
LAST-MODIFIED:20260403T163356Z
UID:19732-1780821000-1780821000@pastoralraum-lenzburg.ch
SUMMARY:Gottesdienst zu Fronleichnam
DESCRIPTION:Musik im Gottesdienst\n\n\n\n\nTrompete:\nChristoph Herrmann\, Silvio Wälti\n\n\n\nPosaune:\nSilvio Benz\, Kaspar Litschig\n\n\n\nOrgel:\nFlorian Zaunmayr\n\n\n
URL:https://pastoralraum-lenzburg.ch/event/pfingsten-10-copy-copy-copy/
CATEGORIES:Kirchenmusik,Lenzburg
END:VEVENT
BEGIN:VEVENT
DTSTART:20260613T151500Z
DTEND:20260613T151500Z
DTSTAMP:20260420T130254Z
CREATED:20260331T152014Z
LAST-MODIFIED:20260331T152204Z
UID:19627-1781363700-1781363700@pastoralraum-lenzburg.ch
SUMMARY:Vesper zum Titularfest
DESCRIPTION:Musik im Gottesdienst\n\n\n\n\nGesang:\nAnna Walker\, Bettina Siegfried\, Matthias Begemann\n\n\n\nSchola\nBenedicta\n\n\n\nOrgel:\nYun Zaunmayr\n\n\n\nLeitung:\nFlorian Zaunmayr\n\n\n\n
URL:https://pastoralraum-lenzburg.ch/event/vesper-3-copy-copy-copy/
CATEGORIES:Kirchenmusik,Lenzburg
END:VEVENT
BEGIN:VEVENT
DTSTART:20260614T083000Z
DTEND:20260614T083000Z
DTSTAMP:20260420T130254Z
CREATED:20260331T152717Z
LAST-MODIFIED:20260331T152717Z
UID:19631-1781425800-1781425800@pastoralraum-lenzburg.ch
SUMMARY:Pontifikalamt zum Titularfest Kopieren
DESCRIPTION:Musik im Gottesdienst\n\n\n\n\n\nMissa Sancti Bernardi von Offida\nvon Joseph Haydn\n\n\n\n\n\n\n\nOrchester La Compagna\nKirchenchor Liturgia\nLeitung: Florian Zaunmayr\n\n\n\n\n\n\n\n\nSopran:\nKristine Jaunalksne\n\n\n\nAlt:\nBettina Siegfried\n\n\n\nTenor:\nSilvio Benz\n\n\n\nBass:\nSergej Aprischkin\n\n\n\nOrgel:\nYun Zaunmayr\n\n\n\n\n
URL:https://pastoralraum-lenzburg.ch/event/patrozinium-3-copy-copy-2-copy-copy/
CATEGORIES:Kirchenmusik,Lenzburg
END:VEVENT
BEGIN:VEVENT
DTSTART:20260621T090000Z
DTEND:20260621T090000Z
DTSTAMP:20260420T130254Z
CREATED:20260331T152256Z
LAST-MODIFIED:20260331T152812Z
UID:19629-1782032400-1782032400@pastoralraum-lenzburg.ch
SUMMARY:Patrozinium
DESCRIPTION:Musik im Gottesdienst\n\n\n\n\n\nMissa Sancti Bernardi von Offida\nvon Joseph Haydn\n\n\n\n\n\n\n\nOrchester La Compagna\nKirchenchor Liturgia\nLeitung: Florian Zaunmayr\n\n\n\n\n\n\n\n\nSopran:\nKristine Jaunalksne\n\n\n\nAlt:\nBettina Siegfried\n\n\n\nTenor:\nSilvio Benz\n\n\n\nBass:\nSergej Aprischkin\n\n\n\nOrgel:\nYun Zaunmayr\n\n\n\n\n
URL:https://pastoralraum-lenzburg.ch/event/patrozinium-3-copy-copy-2-copy/
CATEGORIES:Kirchenmusik,Wildegg
END:VEVENT
BEGIN:VEVENT
DTSTART:20261025T100000Z
DTEND:20261025T100000Z
DTSTAMP:20260420T130254Z
CREATED:20260331T153113Z
LAST-MODIFIED:20260331T153113Z
UID:19632-1792922400-1792922400@pastoralraum-lenzburg.ch
SUMMARY:Gottesdienst zum Beginn des Firmwegs
DESCRIPTION:Musik im Gottesdienst\n\n\n\n\nKlarinette:\nAnita Walde\n\n\n\nOrgel:\nMarlène Flammer\n\n\n
URL:https://pastoralraum-lenzburg.ch/event/gottesdienst-zum-beginn-des-firmwegs/
CATEGORIES:Kirchenmusik,Wildegg
END:VEVENT
END:VCALENDAR